BEGIN:VCALENDAR
VERSION:2.0
PRODID:-//TYPO3/NONSGML News system (news)//EN
BEGIN:VEVENT
UID:news-30900@www.mairie-saintlyphard.fr
DTSTAMP:20260419T133001
DTSTART:20260415T154500
DTEND:20260422T164500
SUMMARY:Visite de la ferme du Bois Nozay
CATEGORIES:
DESCRIPTION:Découvrez notre vie d'éleveurs et de fromagers en Brière. 
 Plongez au cœur de notre ferme de 50ha, nichée dans le 
 Parc Naturel Régional de Brière. Dans ce cadre préservé, 
 vous rencontrerez nos c...
LOCATION:Les Chèvres du Bois Nozay
END:VEVENT
END:VCALENDAR