BEGIN:VCALENDAR
VERSION:2.0
PRODID:-//TYPO3/NONSGML News system (news)//EN
BEGIN:VEVENT
UID:news-30917@www.mairie-saintlyphard.fr
DTSTAMP:20260424T133001
DTSTART:20260501T150000
DTEND:20260503T190000
SUMMARY:Ouverture ateliers d'artistes
CATEGORIES:
DESCRIPTION:Le studio 1011 (dessin) vous accueillera avec plaisir au 
 318, Kerveloche à Saint-Lyphard. Invitée : Bruno 
 Guihéneuf (Sculpture). Eliane Cellery-Meunier (peinture) 
 vous accueillera avec plais...
LOCATION:402, Kerhouguet 44410 St lyphard
END:VEVENT
END:VCALENDAR