BEGIN:VCALENDAR
VERSION:2.0
PRODID:-//TYPO3/NONSGML News system (news)//EN
BEGIN:VEVENT
UID:news-30774@www.mairie-saintlyphard.fr
DTSTAMP:20260419T133001
DTSTART:20260415T100000
DTEND:20260427T180000
SUMMARY:Exposition d'artisanat : exposition de sculpture céramique
CATEGORIES:
DESCRIPTION:Exposition &amp; Ateliers de Sculpture Céramique - L’Art 
 de l’Argile Mme Montassier propose une immersion créative 
 dans l’univers du modelage et de la céramique, à travers 
 une exposition d’œuvres...
LOCATION:La Catiche
END:VEVENT
END:VCALENDAR